BEGIN:VCALENDAR
VERSION:2.0
PRODID:-//Star Brooke Events ltd - ECPv6.15.16//NONSGML v1.0//EN
CALSCALE:GREGORIAN
METHOD:PUBLISH
X-WR-CALNAME:Star Brooke Events ltd
X-ORIGINAL-URL:https://starbrookeeventsltd.com
X-WR-CALDESC:Events for Star Brooke Events ltd
REFRESH-INTERVAL;VALUE=DURATION:PT1H
X-Robots-Tag:noindex
X-PUBLISHED-TTL:PT1H
BEGIN:VTIMEZONE
TZID:UTC
BEGIN:STANDARD
TZOFFSETFROM:+0000
TZOFFSETTO:+0000
TZNAME:UTC
DTSTART:20250101T000000
END:STANDARD
END:VTIMEZONE
BEGIN:VEVENT
DTSTART;TZID=UTC:20260327T120000
DTEND;TZID=UTC:20260327T170000
DTSTAMP:20260422T095710
CREATED:20251027T122954Z
LAST-MODIFIED:20260325T141132Z
UID:1699-1774612800-1774630800@starbrookeeventsltd.com
SUMMARY:EXCLUSIVE CELEBRITY CHARITY LUNCH WITH THREE LEEDS UNITED LEGENDS
DESCRIPTION:Exclusive Celebrity Charity Lunch  \n\nDo not miss the Opportunity to Attend a Truly Unforgettable and Exclusive Event \n  \nVERY KINDLY SPONSORED BY GEOFF THORNTON PLASTERING (GTP) OUR THANKS TO GEOFF & RICHARD. \n  \nDate & Time: Friday 27th March 2026\, 12pm – 5:00 pm   \nVenue: Cleckheaton Sports Club \n⭐ Featuring Leeds United Legends ⭐ \nJoin us for an unforgettable afternoon of fabulous food\, fun\, and captivating tales with  \n Jon Newsome  \n  \nAndy Couzens  \n  \nTony Dorigo   \nEnjoy top Yorkshire comedian the fantastic Lea Roberts\, and guaranteed laughter throughout the day. \nThis exclusive charity event will feature: \n\nLive Q&A with our sporting legends\nA charity auction \nA delicious lunch\nA opportunity to enjoy yourself and raise much needed funds\nFantastic business to business networking opportunity with other guests\n\nOur donations will support My Name’5 Doddie Foundation\, Leeds Hospitals Charity – Rob Burrow Centre\, and local Parkinson’s initiatives. \n🎟️ Limited To Just 15 Tables  – Secure Yours Now! \n  \nBOOK INDIVIDUAL TICKETS ONLINE. FOR TABLES OF 10 Email: starbrookeeventsltd@gmail.com for booking details. \nTables of 10 £500 + VAT \nIndividual Tickets £60 + VAT 
URL:https://starbrookeeventsltd.com/event/exclusive-celebrity-charity-lunch-with-three-leeds-united-legends/
LOCATION:Cleckheaton Sports Club\, The Pavilion\, Moorend\, Cleckheaton\, West Yorkshire\, BD19 3UD\, United Kingdom
ATTACH;FMTTYPE=image/png:https://starbrookeeventsltd.com/wp-content/uploads/2025/10/IMG_0092.png
ORGANIZER;CN="Starbrooke Events":MAILTO:e-mail starbrookeeventsltd@gmail.com
END:VEVENT
END:VCALENDAR