BEGIN:VCALENDAR
VERSION:2.0
PRODID:-//Star Brooke Events ltd - ECPv6.15.16//NONSGML v1.0//EN
CALSCALE:GREGORIAN
METHOD:PUBLISH
X-WR-CALNAME:Star Brooke Events ltd
X-ORIGINAL-URL:https://starbrookeeventsltd.com
X-WR-CALDESC:Events for Star Brooke Events ltd
REFRESH-INTERVAL;VALUE=DURATION:PT1H
X-Robots-Tag:noindex
X-PUBLISHED-TTL:PT1H
BEGIN:VTIMEZONE
TZID:UTC
BEGIN:STANDARD
TZOFFSETFROM:+0000
TZOFFSETTO:+0000
TZNAME:UTC
DTSTART:20250101T000000
END:STANDARD
END:VTIMEZONE
BEGIN:VEVENT
DTSTART;TZID=UTC:20260725T183000
DTEND;TZID=UTC:20260725T213000
DTSTAMP:20260422T083300
CREATED:20260403T102740Z
LAST-MODIFIED:20260404T182421Z
UID:2217-1785004200-1785015000@starbrookeeventsltd.com
SUMMARY:🌴🔥 IBIZA BEACH PARTY MADNESS IS COMING TO LIVERSEDGE! 🔥🌴
DESCRIPTION:🌴🔥 IBIZA BEACH PARTY MADNESS IS COMING TO LIVERSEDGE! 🔥🌴 \nThis is NOT your normal bingo…\nThis is STARBROOKE BONKERS BINGO 💥 \nThink:\n🍹 Ice cold drinks\n🏖️ Ibiza pool party vibes\n🎉 Inflatables\n💃 Music\, madness & pure chaos \n⸻ \n🎤 Hosted by Leeds United star Andy Couzens\n🎧 DJ Rob Young banging out all the beach favourites \n⸻ \n💰 £250 JACKPOT UP FOR GRABS\n🎁 PLUS loads of prizes…\n🗑️ And the legendary STARBROOKE MYSTERY BIN (you won’t believe what’s in it 👀) \n⸻ \n📍 The Liversedge\, Leeds Road\, Liversedge\n📅 Saturday 25th July\n⏰ 18:30 – 21:30 \n🍔 Food available – contact the venue direct \n⸻ \n⚠️ This WILL sell out — don’t be the one hearing about it after \n🎟️ Tickets on sale NOW:\n👉 www.starbrookeeventsltd.com \n  \n \n 
URL:https://starbrookeeventsltd.com/event/%f0%9f%8c%b4%f0%9f%94%a5-ibiza-beach-party-madness-is-coming-to-liversedge-%f0%9f%94%a5%f0%9f%8c%b4/
LOCATION:THE LIVERSEDGE\, Leeds Road\, Liversedge\, West Yorkshire\, WF15 6HX\, United Kingdom
ATTACH;FMTTYPE=image/jpeg:https://starbrookeeventsltd.com/wp-content/uploads/2026/04/IMG_3961.jpeg
ORGANIZER;CN="Starbrooke Events":MAILTO:e-mail starbrookeeventsltd@gmail.com
END:VEVENT
END:VCALENDAR