BEGIN:VCALENDAR
VERSION:2.0
PRODID:-//Star Brooke Events ltd - ECPv6.15.16//NONSGML v1.0//EN
CALSCALE:GREGORIAN
METHOD:PUBLISH
X-ORIGINAL-URL:https://starbrookeeventsltd.com
X-WR-CALDESC:Events for Star Brooke Events ltd
REFRESH-INTERVAL;VALUE=DURATION:PT1H
X-Robots-Tag:noindex
X-PUBLISHED-TTL:PT1H
BEGIN:VTIMEZONE
TZID:UTC
BEGIN:STANDARD
TZOFFSETFROM:+0000
TZOFFSETTO:+0000
TZNAME:UTC
DTSTART:20250101T000000
END:STANDARD
END:VTIMEZONE
BEGIN:VEVENT
DTSTART;TZID=UTC:20260314T140000
DTEND;TZID=UTC:20260314T170000
DTSTAMP:20260420T082421
CREATED:20250912T091214Z
LAST-MODIFIED:20260301T203433Z
UID:1644-1773496800-1773507600@starbrookeeventsltd.com
SUMMARY:STARBROOKE BONKERS BINGO 80’S THEME 14TH MARCH 2026 2PM-5PM
DESCRIPTION:STARBROOKE BONKERS BINGO IS THE ULTIMATE FUN EVENT. LOTS OF AMAZING THEMES THAT WE ENCOURAGE YOU DRESS TO IMPRESS FOR. COCKTAIL ON ARRIVAL\, LOTS OF MADCAP GAMES AND CASH PRIZES. \nCAN YOU GO BONKERS FOR STARBROOKE BONKERS BINGO \n  \nHOSTED BY LEEDS UNITED LEGEND ANDY COUZENS  \nWITH BANGING TUNES FROM TOP YORKSHIRE DJ ROB YOUNG \n  \nSTARBROOKE’S BONKERS BINGO IS THE ULTIMATE EXPERIENCE FOR THOSE LOOKING TOGETHER FOR  A DOSE OF FUN AND EXCITEMENT INTO THEIR GATHERINGS. WITH BIG CASH PRIZES UP FOR GRABS AND SIDE SPLITTING  HILARIOUS  GAMES\, THIS IS AN EVENT YOU WON’T WANT TO MISS. PERFECT FOR TEAM BUILDING WTH COLLEAGUES OR A LIVELY  GIRLS/GUYS NIGHT OUT. BONKERS BINGO COMBINES THE THRILL  OF TRADITIONAL  BINGO WITH A MODERN\, ENERGETIC TWIST. AS YOU MARK OFF YOUR NUMBERS\, YOU’LL BE ENTERTAINED WITH THE COOLEST SOUNDS AND DYNAMIC ATMOSPHERE THAT WILL HAVE EVERYONE ON THEIR FEET. WHETHER YOU’RE A SEASONED BINGO PLAYER OR A NEWBE\, THE ENERGY AND LAUGHTER ARE INFECTIOUS. SO GATHER YOUR TEAM\, BRING YOUR FRIENDS\, AND GET READY TO CALL “BINGO!” BEFORE THE MUSIC STOPS AND YOUR DAY IS OFFICIALLY  ROCKED! \nwww.starbrookeeventsltd.com \n  \nTICKETS £25 EACH : INCLUDES ALL GAMES OF BINGO AND ALL OTHER FUN AND GAMES \n  \nCleckheaton Sports Club. \n  \nTerms and Conditions
URL:https://starbrookeeventsltd.com/event/starbrooke-bonkers-bingo-80s-theme-14th-march-2026-2pm-5pm/
LOCATION:Cleckheaton Sports Club\, The Pavilion\, Moorend\, Cleckheaton\, West Yorkshire\, BD19 3UD\, United Kingdom
CATEGORIES:Entertainment
ATTACH;FMTTYPE=image/png:https://starbrookeeventsltd.com/wp-content/uploads/2025/09/Copy-of-Copy-of-STARBROOKE-EVENTS-LTD.zip-Bonkers-bingo.png
ORGANIZER;CN="Starbrooke Events":MAILTO:e-mail starbrookeeventsltd@gmail.com
END:VEVENT
END:VCALENDAR