BEGIN:VCALENDAR
VERSION:2.0
PRODID:-//Star Brooke Events ltd - ECPv6.15.16//NONSGML v1.0//EN
CALSCALE:GREGORIAN
METHOD:PUBLISH
X-WR-CALNAME:Star Brooke Events ltd
X-ORIGINAL-URL:https://starbrookeeventsltd.com
X-WR-CALDESC:Events for Star Brooke Events ltd
REFRESH-INTERVAL;VALUE=DURATION:PT1H
X-Robots-Tag:noindex
X-PUBLISHED-TTL:PT1H
BEGIN:VTIMEZONE
TZID:UTC
BEGIN:STANDARD
TZOFFSETFROM:+0000
TZOFFSETTO:+0000
TZNAME:UTC
DTSTART:20230101T000000
END:STANDARD
END:VTIMEZONE
BEGIN:VEVENT
DTSTART;TZID=UTC:20241215T110000
DTEND;TZID=UTC:20241215T180000
DTSTAMP:20260424T134256
CREATED:20241205T171512Z
LAST-MODIFIED:20241205T174653Z
UID:902-1734260400-1734285600@starbrookeeventsltd.com
SUMMARY:Step Into Christmas
DESCRIPTION:Food menu\nMain options: \nBar Grilled Chicken Breast \n(With roast creamed potatoes\, roast parsnips\, carrots\, Brussel sprouts\, pigs in blankets\, Yorkshire pudding\, and rich pan gravy) \n~~~~~~ \nYorkshire Grazed Topside Beef \n(With roast creamed potatoes\, roast parsnips\, carrots\, Brussel sprouts\, pigs in blankets\, Yorkshire pudding\, and rich pan gravy) \n~~~~~~ \nNut Roast (Vegetarian Option) \n(With roast creamed potatoes\, roast parsnips\, carrots\, Brussel sprouts\, and Yorkshire pudding) \n~~~~~~ Dessert options: \nWarm Sticky Toffee Sponge drizzled with a rich\, velvety custard Chocolate Brownie with Vanilla Ice Cream \n  \nCheese Course \nCheese Board £5 Supplement per head \n  \nItinerary \n1pm a warm welcome complete with  a  complimentary drink \n1.30pm Be seated for lunch & table quiz \n2.30pm comfort break \n2.45pm The Ultimate Rod Stewart Tribute (Gerry Trew) \n3.15pm comfort break \n3.30pm kings and queens and the answers to the Quiz \n4pm Lea Roberts one of the norths premier comedians \n4.30pm comfort break \n4.45pm raffle \n5pm The Ultimate Rod Stewart Tribute (Gerry Trew) to close the afternoon \n  \nRaffle prizes include:1st prize  2 VIP Tickets to Mel Sterland evening on 25th January 2025 \n2nd prize £50 cash prize 3rd prize  £25 cash \, lots of other prizes to be won. \nIf each person could Please put £10 in the envelope provided\, this enters you into the quiz\, kings and queen an the raffle. \n 
URL:https://starbrookeeventsltd.com/event/step-into-christmas/
LOCATION:Bunkers Bar & Lounge East Bierley Golf Club\, Bunkers Bar & Lounge\, East Bierley Golf Club\, Bradford\, BD4 6PP\, United Kingdom
CATEGORIES:Special Event
ATTACH;FMTTYPE=image/png:https://starbrookeeventsltd.com/wp-content/uploads/2024/12/FRONT-COVER-STEP-IN-TO-CHRISTMAS-15-12-24-1.pdf-1.png
ORGANIZER;CN="Starbrooke Events":MAILTO:e-mail starbrookeeventsltd@gmail.com
END:VEVENT
END:VCALENDAR